BEGIN:VCALENDAR
VERSION:2.0
PRODID:-//RIGHTHERE//CALENDARIZE IT V3.2//EN
BEGIN:VTIMEZONE
TZID:Europe/Brussels
BEGIN:STANDARD
DTSTART:20251026T010000
TZOFFSETFROM:+0200
TZOFFSETTO:+0100
TZNAME:CET
END:STANDARD
BEGIN:DAYLIGHT
DTSTART:20260329T010000
TZOFFSETFROM:+0100
TZOFFSETTO:+0200
TZNAME:CEST
END:DAYLIGHT
BEGIN:STANDARD
DTSTART:20261025T010000
TZOFFSETFROM:+0200
TZOFFSETTO:+0100
TZNAME:CET
END:STANDARD
END:VTIMEZONE
BEGIN:VEVENT
UID:10200-events@upjb.be
DTSTART;TZID=Europe/Brussels:20241108T200000
DTEND;TZID=Europe/Brussels:20241108T000000
DTSTAMP;TZID=Europe/Brussels:20240626T145236
SUMMARY:« L’arche & la tour »\, un spectacle musical de l’UPJB
URL:https://upjb.be/events/larche-et-la-tour-upjb/
ORGANIZER;CN=UPJB - Union des progressistes juifs de Belgique:MAILTO:info@u
 pjb.be
LOCATION:Centre Culturel Jacques Franck
END:VEVENT
END:VCALENDAR