BEGIN:VCALENDAR
VERSION:2.0
PRODID:-//RIGHTHERE//CALENDARIZE IT V3.2//EN
BEGIN:VTIMEZONE
TZID:Europe/Brussels
BEGIN:STANDARD
DTSTART:20251026T010000
TZOFFSETFROM:+0200
TZOFFSETTO:+0100
TZNAME:CET
END:STANDARD
BEGIN:DAYLIGHT
DTSTART:20260329T010000
TZOFFSETFROM:+0100
TZOFFSETTO:+0200
TZNAME:CEST
END:DAYLIGHT
BEGIN:STANDARD
DTSTART:20261025T010000
TZOFFSETFROM:+0200
TZOFFSETTO:+0100
TZNAME:CET
END:STANDARD
END:VTIMEZONE
BEGIN:VEVENT
UID:10894-events@upjb.be
DTSTART;TZID=Europe/Brussels:20250202T160000
DTEND;TZID=Europe/Brussels:20250202T000000
DTSTAMP;TZID=Europe/Brussels:20250103T122136
SUMMARY:[La Shoah dans le cinéma d’Europe de l’Est entre 1945 et 1968]
 « Les diamants de la nuit »
URL:https://upjb.be/events/la-shoah-dans-le-cinema-deurope-de-lest-entre-19
 45-et-1968-les-diamants-de-la-nuit/
ORGANIZER;CN=UPJB - Union des progressistes juifs de Belgique:MAILTO:info@u
 pjb.be
LOCATION:UPJB - Union des Progressistes Juifs de Belgique
END:VEVENT
END:VCALENDAR