BEGIN:VCALENDAR
VERSION:2.0
PRODID:-//RIGHTHERE//CALENDARIZE IT V3.2//EN
BEGIN:VTIMEZONE
TZID:Europe/Brussels
BEGIN:STANDARD
DTSTART:20251026T010000
TZOFFSETFROM:+0200
TZOFFSETTO:+0100
TZNAME:CET
END:STANDARD
BEGIN:DAYLIGHT
DTSTART:20260329T010000
TZOFFSETFROM:+0100
TZOFFSETTO:+0200
TZNAME:CEST
END:DAYLIGHT
BEGIN:STANDARD
DTSTART:20261025T010000
TZOFFSETFROM:+0200
TZOFFSETTO:+0100
TZNAME:CET
END:STANDARD
END:VTIMEZONE
BEGIN:VEVENT
UID:11183-events@upjb.be
DTSTART;TZID=Europe/Brussels:20250406T160000
DTEND;TZID=Europe/Brussels:20250406T000000
DTSTAMP;TZID=Europe/Brussels:20250310T122401
SUMMARY:[Regards juifs dans le cinéma d’Amérique Latine] « Le dernier 
 été de la Boyita »
URL:https://upjb.be/events/regards-juifs-dans-le-cinema-damerique-latine-le
 -dernier-ete-de-la-boyita/
ORGANIZER;CN=UPJB - Union des progressistes juifs de Belgique:MAILTO:info@u
 pjb.be
END:VEVENT
END:VCALENDAR