BEGIN:VCALENDAR
VERSION:2.0
PRODID:-//RIGHTHERE//CALENDARIZE IT V3.2//EN
BEGIN:VTIMEZONE
TZID:Europe/Brussels
BEGIN:STANDARD
DTSTART:20251026T010000
TZOFFSETFROM:+0200
TZOFFSETTO:+0100
TZNAME:CET
END:STANDARD
BEGIN:DAYLIGHT
DTSTART:20260329T010000
TZOFFSETFROM:+0100
TZOFFSETTO:+0200
TZNAME:CEST
END:DAYLIGHT
BEGIN:STANDARD
DTSTART:20261025T010000
TZOFFSETFROM:+0200
TZOFFSETTO:+0100
TZNAME:CET
END:STANDARD
END:VTIMEZONE
BEGIN:VEVENT
UID:13189-events@upjb.be
DTSTART;TZID=Europe/Brussels:20260421T183000
DTEND;TZID=Europe/Brussels:20260421T000000
DTSTAMP;TZID=Europe/Brussels:20260420T173600
SUMMARY:[Avril Antifasciste] Quand le trafiquant c’est l’état — Port
 i (in)sicuri
URL:https://upjb.be/events/avril-antifasciste-quand-le-trafiquant-cest-leta
 t-porti-insicuri/
ORGANIZER;CN=CFS asbl:
END:VEVENT
END:VCALENDAR