BEGIN:VCALENDAR
VERSION:2.0
PRODID:-//RIGHTHERE//CALENDARIZE IT V3.2//EN
BEGIN:VTIMEZONE
TZID:Europe/Brussels
BEGIN:STANDARD
DTSTART:20251026T010000
TZOFFSETFROM:+0200
TZOFFSETTO:+0100
TZNAME:CET
END:STANDARD
BEGIN:DAYLIGHT
DTSTART:20260329T010000
TZOFFSETFROM:+0100
TZOFFSETTO:+0200
TZNAME:CEST
END:DAYLIGHT
BEGIN:STANDARD
DTSTART:20261025T010000
TZOFFSETFROM:+0200
TZOFFSETTO:+0100
TZNAME:CET
END:STANDARD
END:VTIMEZONE
BEGIN:VEVENT
UID:4917-events@upjb.be
DTSTART;TZID=Europe/Brussels:20191025T190000
DTEND;TZID=Europe/Brussels:20191025T000000
DTSTAMP;TZID=Europe/Brussels:20191016T115335
SUMMARY:[Sensibilisation] Qui sème l’occupation récolte la résistance
URL:https://upjb.be/events/sensibilisation-qui-seme-loccupation-recolte-la-
 resistance/
ORGANIZER;CN=Paix Juste au Proche-Orient - Titre:
LOCATION:Etable d'Hotes
END:VEVENT
END:VCALENDAR