BEGIN:VCALENDAR
VERSION:2.0
PRODID:-//RIGHTHERE//CALENDARIZE IT V3.2//EN
BEGIN:VTIMEZONE
TZID:Europe/Brussels
BEGIN:STANDARD
DTSTART:20251026T010000
TZOFFSETFROM:+0200
TZOFFSETTO:+0100
TZNAME:CET
END:STANDARD
BEGIN:DAYLIGHT
DTSTART:20260329T010000
TZOFFSETFROM:+0100
TZOFFSETTO:+0200
TZNAME:CEST
END:DAYLIGHT
BEGIN:STANDARD
DTSTART:20261025T010000
TZOFFSETFROM:+0200
TZOFFSETTO:+0100
TZNAME:CET
END:STANDARD
END:VTIMEZONE
BEGIN:VEVENT
UID:4935-events@upjb.be
DTSTART;TZID=Europe/Brussels:20191122T200000
DTEND;TZID=Europe/Brussels:20191122T000000
DTSTAMP;TZID=Europe/Brussels:20191029T144225
SUMMARY:Le Couscous Sépharabe de La Tricoterie
URL:https://upjb.be/events/le-couscous-sepharabe-de-la-tricoterie/
ORGANIZER;CN=La Tricoterie:
LOCATION:La Tricoterie
END:VEVENT
END:VCALENDAR