BEGIN:VCALENDAR
VERSION:2.0
PRODID:-//RIGHTHERE//CALENDARIZE IT V3.2//EN
BEGIN:VTIMEZONE
TZID:Europe/Brussels
BEGIN:STANDARD
DTSTART:20251026T010000
TZOFFSETFROM:+0200
TZOFFSETTO:+0100
TZNAME:CET
END:STANDARD
BEGIN:DAYLIGHT
DTSTART:20260329T010000
TZOFFSETFROM:+0100
TZOFFSETTO:+0200
TZNAME:CEST
END:DAYLIGHT
BEGIN:STANDARD
DTSTART:20261025T010000
TZOFFSETFROM:+0200
TZOFFSETTO:+0100
TZNAME:CET
END:STANDARD
END:VTIMEZONE
BEGIN:VEVENT
UID:5153-events@upjb.be
DTSTART;TZID=Europe/Brussels:20200220T150000
DTEND;TZID=Europe/Brussels:20200220T170000
DTSTAMP;TZID=Europe/Brussels:20200114T165717
SUMMARY:[Conférence-débat] REPORTÉ – Procès France Télécom Jour 35 
 – Un procès qui brise le cours normal du temps\, par Laurent Vogel
URL:https://upjb.be/events/conference-debat-proces-france-telecom-jour-35-u
 n-proces-qui-brise-le-cours-normal-du-temps-par-laurent-vogel/
ORGANIZER;CN=UPJB - Union des progressistes juifs de Belgique:MAILTO:info@u
 pjb.be
LOCATION:UPJB - Union des Progressistes Juifs de Belgique
END:VEVENT
END:VCALENDAR