BEGIN:VCALENDAR
VERSION:2.0
PRODID:-//RIGHTHERE//CALENDARIZE IT V3.2//EN
BEGIN:VTIMEZONE
TZID:Europe/Brussels
BEGIN:STANDARD
DTSTART:20251026T010000
TZOFFSETFROM:+0200
TZOFFSETTO:+0100
TZNAME:CET
END:STANDARD
BEGIN:DAYLIGHT
DTSTART:20260329T010000
TZOFFSETFROM:+0100
TZOFFSETTO:+0200
TZNAME:CEST
END:DAYLIGHT
BEGIN:STANDARD
DTSTART:20261025T010000
TZOFFSETFROM:+0200
TZOFFSETTO:+0100
TZNAME:CET
END:STANDARD
END:VTIMEZONE
BEGIN:VEVENT
UID:5159-events@upjb.be
DTSTART;TZID=Europe/Brussels:20200305T150000
DTEND;TZID=Europe/Brussels:20200305T170000
DTSTAMP;TZID=Europe/Brussels:20200114T171016
SUMMARY:[Conférence-débat] « Deux degrés. Les sociétés face au change
 ment climatique » par Edwin Zaccai
URL:https://upjb.be/events/conference-debat-deux-degres-les-societes-face-a
 u-changement-climatique-par-edwin-zaccai/
ORGANIZER;CN=UPJB - Union des progressistes juifs de Belgique:MAILTO:info@u
 pjb.be
LOCATION:UPJB - Union des Progressistes Juifs de Belgique
END:VEVENT
END:VCALENDAR