BEGIN:VCALENDAR
VERSION:2.0
PRODID:-//RIGHTHERE//CALENDARIZE IT V3.2//EN
BEGIN:VTIMEZONE
TZID:Europe/Brussels
BEGIN:STANDARD
DTSTART:20251026T010000
TZOFFSETFROM:+0200
TZOFFSETTO:+0100
TZNAME:CET
END:STANDARD
BEGIN:DAYLIGHT
DTSTART:20260329T010000
TZOFFSETFROM:+0100
TZOFFSETTO:+0200
TZNAME:CEST
END:DAYLIGHT
BEGIN:STANDARD
DTSTART:20261025T010000
TZOFFSETFROM:+0200
TZOFFSETTO:+0100
TZNAME:CET
END:STANDARD
END:VTIMEZONE
BEGIN:VEVENT
UID:5300-events@upjb.be
DTSTART;VALUE=DATE:20200429
DTEND;VALUE=DATE:20200504
DTSTAMP;TZID=Europe/Brussels:20200221T191659
SUMMARY:[Shtetl St-Gilles] Festival Shtetl Tango
URL:https://upjb.be/events/shtetl-st-gilles-festival-shtetl-tango/
ORGANIZER;CN=Shtetl Saint-Gilles:
LOCATION:Maison du Peuple de Saint-Gilles
END:VEVENT
END:VCALENDAR