BEGIN:VCALENDAR
VERSION:2.0
PRODID:-//RIGHTHERE//CALENDARIZE IT V3.2//EN
BEGIN:VTIMEZONE
TZID:Europe/Brussels
BEGIN:STANDARD
DTSTART:20251026T010000
TZOFFSETFROM:+0200
TZOFFSETTO:+0100
TZNAME:CET
END:STANDARD
BEGIN:DAYLIGHT
DTSTART:20260329T010000
TZOFFSETFROM:+0100
TZOFFSETTO:+0200
TZNAME:CEST
END:DAYLIGHT
BEGIN:STANDARD
DTSTART:20261025T010000
TZOFFSETFROM:+0200
TZOFFSETTO:+0100
TZNAME:CET
END:STANDARD
END:VTIMEZONE
BEGIN:VEVENT
UID:5347-events@upjb.be
DTSTART;TZID=Europe/Brussels:20191212T150000
DTEND;TZID=Europe/Brussels:20191212T170000
DTSTAMP;TZID=Europe/Brussels:20200303T122342
SUMMARY:[Chanson] « Le Yiddish en chantant »
RDATE;TZID=Europe/Brussels;VALUE=PERIOD:20191003T150000/20191003T170000,201
 91212T150000/20191212T170000,20200220T150000/20200220T170000
URL:https://upjb.be/events/le-yiddish-en-chantant-2-2-2-2-2/
ORGANIZER;CN=UPJB - Union des progressistes juifs de Belgique:MAILTO:info@u
 pjb.be
LOCATION:UPJB - Union des Progressistes Juifs de Belgique
END:VEVENT
END:VCALENDAR