BEGIN:VCALENDAR
VERSION:2.0
PRODID:-//RIGHTHERE//CALENDARIZE IT V3.2//EN
BEGIN:VTIMEZONE
TZID:Europe/Brussels
BEGIN:STANDARD
DTSTART:20251026T010000
TZOFFSETFROM:+0200
TZOFFSETTO:+0100
TZNAME:CET
END:STANDARD
BEGIN:DAYLIGHT
DTSTART:20260329T010000
TZOFFSETFROM:+0100
TZOFFSETTO:+0200
TZNAME:CEST
END:DAYLIGHT
BEGIN:STANDARD
DTSTART:20261025T010000
TZOFFSETFROM:+0200
TZOFFSETTO:+0100
TZNAME:CET
END:STANDARD
END:VTIMEZONE
BEGIN:VEVENT
UID:6599-events@upjb.be
DTSTART;TZID=Europe/Brussels:20210622T170000
DTEND;TZID=Europe/Brussels:20210622T190000
DTSTAMP;TZID=Europe/Brussels:20210617T114215
SUMMARY:Séminaire en ligne: “De la Convention de Genève à la fabrique 
 des sans-papiers”
URL:https://upjb.be/events/seminaire-en-ligne-de-la-convention-de-geneve-a-
 la-fabrique-des-sans-papiers/
ORGANIZER;CN=CIRé:
END:VEVENT
END:VCALENDAR