BEGIN:VCALENDAR
VERSION:2.0
PRODID:-//RIGHTHERE//CALENDARIZE IT V3.2//EN
BEGIN:VTIMEZONE
TZID:Europe/Brussels
BEGIN:STANDARD
DTSTART:20251026T010000
TZOFFSETFROM:+0200
TZOFFSETTO:+0100
TZNAME:CET
END:STANDARD
BEGIN:DAYLIGHT
DTSTART:20260329T010000
TZOFFSETFROM:+0100
TZOFFSETTO:+0200
TZNAME:CEST
END:DAYLIGHT
BEGIN:STANDARD
DTSTART:20261025T010000
TZOFFSETFROM:+0200
TZOFFSETTO:+0100
TZNAME:CET
END:STANDARD
END:VTIMEZONE
BEGIN:VEVENT
UID:6692-events@upjb.be
DTSTART;TZID=Europe/Brussels:20210917T201500
DTEND;TZID=Europe/Brussels:20210917T221500
DTSTAMP;TZID=Europe/Brussels:20210831T102925
SUMMARY:Présentation du livre de Thomas Vescovi  « L’échec d’une ut
 opie. Une histoire des gauches en Israël »
URL:https://upjb.be/events/presentation-du-livre-de-thomas-vescovi-lechec-d
 une-utopie-une-histoire-des-gauches-en-israel/
ORGANIZER;CN=UPJB - Union des progressistes juifs de Belgique:MAILTO:info@u
 pjb.be
LOCATION:UPJB - Union des Progressistes Juifs de Belgique
END:VEVENT
END:VCALENDAR