BEGIN:VCALENDAR
VERSION:2.0
PRODID:-//RIGHTHERE//CALENDARIZE IT V3.2//EN
BEGIN:VTIMEZONE
TZID:Europe/Brussels
BEGIN:STANDARD
DTSTART:20251026T010000
TZOFFSETFROM:+0200
TZOFFSETTO:+0100
TZNAME:CET
END:STANDARD
BEGIN:DAYLIGHT
DTSTART:20260329T010000
TZOFFSETFROM:+0100
TZOFFSETTO:+0200
TZNAME:CEST
END:DAYLIGHT
BEGIN:STANDARD
DTSTART:20261025T010000
TZOFFSETFROM:+0200
TZOFFSETTO:+0100
TZNAME:CET
END:STANDARD
END:VTIMEZONE
BEGIN:VEVENT
UID:6858-events@upjb.be
DTSTART;TZID=Europe/Brussels:20211013T193000
DTEND;TZID=Europe/Brussels:20211013T000000
DTSTAMP;TZID=Europe/Brussels:20211004T095934
SUMMARY:Séminaire : De la Nakba à Cheikh Jarrah et au-delà. Israël : le
 colonialisme en destru(A)ction
RRULE:FREQ=WEEKLY;INTERVAL=2;UNTIL=20211208
URL:https://upjb.be/events/seminaire-de-la-nakba-a-cheikh-jarrah-et-au-dela
 -israel-le-colonialisme-en-destruaction/
ORGANIZER;CN=De-Colonizer:
LOCATION:UPJB - Union des Progressistes Juifs de Belgique
END:VEVENT
END:VCALENDAR