BEGIN:VCALENDAR
VERSION:2.0
PRODID:-//RIGHTHERE//CALENDARIZE IT V3.2//EN
BEGIN:VTIMEZONE
TZID:Europe/Brussels
BEGIN:STANDARD
DTSTART:20251026T010000
TZOFFSETFROM:+0200
TZOFFSETTO:+0100
TZNAME:CET
END:STANDARD
BEGIN:DAYLIGHT
DTSTART:20260329T010000
TZOFFSETFROM:+0100
TZOFFSETTO:+0200
TZNAME:CEST
END:DAYLIGHT
BEGIN:STANDARD
DTSTART:20261025T010000
TZOFFSETFROM:+0200
TZOFFSETTO:+0100
TZNAME:CET
END:STANDARD
END:VTIMEZONE
BEGIN:VEVENT
UID:7594-events@upjb.be
DTSTART;TZID=Europe/Brussels:20220514T140000
DTEND;TZID=Europe/Brussels:20220515T190000
DTSTAMP;TZID=Europe/Brussels:20220429T095554
SUMMARY:Parcours d’artistes 2022 à l’UPJB
URL:https://upjb.be/events/parcours-dartistes-2022-a-lupjb/
ORGANIZER;CN=Parcours d'artistes de Saint-Gilles:
LOCATION:UPJB - Union des Progressistes Juifs de Belgique
END:VEVENT
END:VCALENDAR