BEGIN:VCALENDAR
VERSION:2.0
PRODID:-//RIGHTHERE//CALENDARIZE IT V3.2//EN
BEGIN:VTIMEZONE
TZID:Europe/Brussels
BEGIN:STANDARD
DTSTART:20251026T010000
TZOFFSETFROM:+0200
TZOFFSETTO:+0100
TZNAME:CET
END:STANDARD
BEGIN:DAYLIGHT
DTSTART:20260329T010000
TZOFFSETFROM:+0100
TZOFFSETTO:+0200
TZNAME:CEST
END:DAYLIGHT
BEGIN:STANDARD
DTSTART:20261025T010000
TZOFFSETFROM:+0200
TZOFFSETTO:+0100
TZNAME:CET
END:STANDARD
END:VTIMEZONE
BEGIN:VEVENT
UID:7815-events@upjb.be
DTSTART;TZID=Europe/Brussels:20220923T201500
DTEND;TZID=Europe/Brussels:20220923T000000
DTSTAMP;TZID=Europe/Brussels:20220728T111923
SUMMARY:Rencontre avec André Markowicz autour de la guerre en Ukraine
URL:https://upjb.be/events/rencontre-avec-andre-markowicz-autour-de-la-guer
 re-en-ukraine/
ORGANIZER;CN=UPJB - Union des progressistes juifs de Belgique:MAILTO:info@u
 pjb.be
LOCATION:UPJB - Union des Progressistes Juifs de Belgique
END:VEVENT
END:VCALENDAR