BEGIN:VCALENDAR
VERSION:2.0
PRODID:-//RIGHTHERE//CALENDARIZE IT V3.2//EN
BEGIN:VTIMEZONE
TZID:Europe/Brussels
BEGIN:STANDARD
DTSTART:20251026T010000
TZOFFSETFROM:+0200
TZOFFSETTO:+0100
TZNAME:CET
END:STANDARD
BEGIN:DAYLIGHT
DTSTART:20260329T010000
TZOFFSETFROM:+0100
TZOFFSETTO:+0200
TZNAME:CEST
END:DAYLIGHT
BEGIN:STANDARD
DTSTART:20261025T010000
TZOFFSETFROM:+0200
TZOFFSETTO:+0100
TZNAME:CET
END:STANDARD
END:VTIMEZONE
BEGIN:VEVENT
UID:8419-events@upjb.be
DTSTART;TZID=Europe/Brussels:20230213T190000
DTEND;TZID=Europe/Brussels:20230213T000000
DTSTAMP;TZID=Europe/Brussels:20230124T180015
SUMMARY:[Projection] « Au bord de la folie » de Tawfik Sabouni
URL:https://upjb.be/events/projection-au-bord-de-la-folie-de-tawfik-sabouni
 /
ORGANIZER;CN=Bruxelles Panthères:
END:VEVENT
END:VCALENDAR