BEGIN:VCALENDAR
VERSION:2.0
PRODID:-//RIGHTHERE//CALENDARIZE IT V3.2//EN
BEGIN:VTIMEZONE
TZID:Europe/Brussels
BEGIN:STANDARD
DTSTART:20251026T010000
TZOFFSETFROM:+0200
TZOFFSETTO:+0100
TZNAME:CET
END:STANDARD
BEGIN:DAYLIGHT
DTSTART:20260329T010000
TZOFFSETFROM:+0100
TZOFFSETTO:+0200
TZNAME:CEST
END:DAYLIGHT
BEGIN:STANDARD
DTSTART:20261025T010000
TZOFFSETFROM:+0200
TZOFFSETTO:+0100
TZNAME:CET
END:STANDARD
END:VTIMEZONE
BEGIN:VEVENT
UID:9773-events@upjb.be
DTSTART;TZID=Europe/Brussels:20240409T190000
DTEND;TZID=Europe/Brussels:20240409T000000
DTSTAMP;TZID=Europe/Brussels:20240322T183626
SUMMARY:[Conférence-Débat] L’antisionisme juif : une histoire longue e
 t diverse
URL:https://upjb.be/events/conference-debat-lantisionisme-juif-une-histoire
 -longue-et-diverse/
ORGANIZER;CN=UPJB - Union des progressistes juifs de Belgique:MAILTO:info@u
 pjb.be
LOCATION:UPJB - Union des Progressistes Juifs de Belgique
END:VEVENT
END:VCALENDAR