BEGIN:VCALENDAR
VERSION:2.0
PRODID:-//RIGHTHERE//CALENDARIZE IT V3.2//EN
BEGIN:VTIMEZONE
TZID:Europe/Brussels
BEGIN:STANDARD
DTSTART:20251026T010000
TZOFFSETFROM:+0200
TZOFFSETTO:+0100
TZNAME:CET
END:STANDARD
BEGIN:DAYLIGHT
DTSTART:20260329T010000
TZOFFSETFROM:+0100
TZOFFSETTO:+0200
TZNAME:CEST
END:DAYLIGHT
BEGIN:STANDARD
DTSTART:20261025T010000
TZOFFSETFROM:+0200
TZOFFSETTO:+0100
TZNAME:CET
END:STANDARD
END:VTIMEZONE
BEGIN:VEVENT
UID:9879-events@upjb.be
DTSTART;TZID=Europe/Brussels:20240420T120000
DTEND;TZID=Europe/Brussels:20240420T000000
DTSTAMP;TZID=Europe/Brussels:20240412T162059
SUMMARY:[Commémoration] L’UPJB commémore le soulèvement du Ghetto de V
 arsovie ce 20 avril
URL:https://upjb.be/events/commemoration-lupjb-commemore-le-soulevement-du-
 ghetto-de-varsovie-ce-20-avril/
ORGANIZER;CN=UPJB - Union des progressistes juifs de Belgique:MAILTO:info@u
 pjb.be
LOCATION:Monument à la Résistance juive et Mémorial de la Déportation d
 'Anderlecht
END:VEVENT
END:VCALENDAR