BEGIN:VCALENDAR
VERSION:2.0
PRODID:-//RIGHTHERE//CALENDARIZE IT V3.2//EN
BEGIN:VTIMEZONE
TZID:Europe/Brussels
BEGIN:STANDARD
DTSTART:20251026T010000
TZOFFSETFROM:+0200
TZOFFSETTO:+0100
TZNAME:CET
END:STANDARD
BEGIN:DAYLIGHT
DTSTART:20260329T010000
TZOFFSETFROM:+0100
TZOFFSETTO:+0200
TZNAME:CEST
END:DAYLIGHT
BEGIN:STANDARD
DTSTART:20261025T010000
TZOFFSETFROM:+0200
TZOFFSETTO:+0100
TZNAME:CET
END:STANDARD
END:VTIMEZONE
BEGIN:VEVENT
UID:9992-events@upjb.be
DTSTART;TZID=Europe/Brussels:20240525T093000
DTEND;TZID=Europe/Brussels:20240525T160000
DTSTAMP;TZID=Europe/Brussels:20240425T150120
SUMMARY:ViaVelo Palestina
URL:https://upjb.be/events/viavelo-palestina-2/
ORGANIZER;CN=ViaVelo Palestina:
LOCATION:Cinquantenaire
END:VEVENT
END:VCALENDAR